BEGIN:VCALENDAR
VERSION:2.0
PRODID:-//Artemisia Press - ECPv6.15.12.2//NONSGML v1.0//EN
CALSCALE:GREGORIAN
METHOD:PUBLISH
X-WR-CALNAME:Artemisia Press
X-ORIGINAL-URL:https://www.artemisiapress.ca
X-WR-CALDESC:Events for Artemisia Press
REFRESH-INTERVAL;VALUE=DURATION:PT1H
X-Robots-Tag:noindex
X-PUBLISHED-TTL:PT1H
BEGIN:VTIMEZONE
TZID:America/Toronto
BEGIN:DAYLIGHT
TZOFFSETFROM:-0500
TZOFFSETTO:-0400
TZNAME:EDT
DTSTART:20230312T070000
END:DAYLIGHT
BEGIN:STANDARD
TZOFFSETFROM:-0400
TZOFFSETTO:-0500
TZNAME:EST
DTSTART:20231105T060000
END:STANDARD
BEGIN:DAYLIGHT
TZOFFSETFROM:-0500
TZOFFSETTO:-0400
TZNAME:EDT
DTSTART:20240310T070000
END:DAYLIGHT
BEGIN:STANDARD
TZOFFSETFROM:-0400
TZOFFSETTO:-0500
TZNAME:EST
DTSTART:20241103T060000
END:STANDARD
BEGIN:DAYLIGHT
TZOFFSETFROM:-0500
TZOFFSETTO:-0400
TZNAME:EDT
DTSTART:20250309T070000
END:DAYLIGHT
BEGIN:STANDARD
TZOFFSETFROM:-0400
TZOFFSETTO:-0500
TZNAME:EST
DTSTART:20251102T060000
END:STANDARD
BEGIN:DAYLIGHT
TZOFFSETFROM:-0500
TZOFFSETTO:-0400
TZNAME:EDT
DTSTART:20260308T070000
END:DAYLIGHT
BEGIN:STANDARD
TZOFFSETFROM:-0400
TZOFFSETTO:-0500
TZNAME:EST
DTSTART:20261101T060000
END:STANDARD
END:VTIMEZONE
BEGIN:VEVENT
DTSTART;TZID=America/Toronto:20250621T120000
DTEND;TZID=America/Toronto:20250621T170000
DTSTAMP:20260420T022924
CREATED:20250525T233853Z
LAST-MODIFIED:20250525T233853Z
UID:177-1750507200-1750525200@www.artemisiapress.ca
SUMMARY:Ottawa Small Press Book Fair
DESCRIPTION:
URL:https://www.artemisiapress.ca/event/ottawa-small-press-book-fair/
LOCATION:Tom Brown Arena\, 141 Bayview Station Road\, Ottawa\, ON\, Canada
END:VEVENT
BEGIN:VEVENT
DTSTART;TZID=America/Toronto:20250427T110000
DTEND;TZID=America/Toronto:20250427T170000
DTSTAMP:20260420T022924
CREATED:20250423T000010Z
LAST-MODIFIED:20250423T000350Z
UID:169-1745751600-1745773200@www.artemisiapress.ca
SUMMARY:Ottawa Mystic Market - Beltane
DESCRIPTION:Sharing table space with Wool Witch Guild\, carrying our fiction backlog as well as a new entry to Christopher Shorewick’s flash horror anthology series: \n\nDon’t Scream\, It’s Only Armageddon (2nd edition)\nPrometheus Anonymous\nElectromagnetic Spectres\nLanterns for Graverobbers (illustrated by Kelsea Shorewick)\nTiptoe Through the Tombstones (new!)\n\nWe’ll also have the last few tapes of The Auras of the Three Divine Worms\, including the accompanying zine!
URL:https://www.artemisiapress.ca/event/ottawa-mystic-market-beltane/
LOCATION:Next Door Market & Event Space\, 955a Gladstone Avenue\, Ottawa\, Ontario\, K1Y 3E5\, Canada
END:VEVENT
BEGIN:VEVENT
DTSTART;TZID=America/Toronto:20250322T110000
DTEND;TZID=America/Toronto:20250322T160000
DTSTAMP:20260420T022924
CREATED:20250303T233127Z
LAST-MODIFIED:20250303T233127Z
UID:161-1742641200-1742659200@www.artemisiapress.ca
SUMMARY:Ostarun
DESCRIPTION:
URL:https://www.artemisiapress.ca/event/ostarun/
LOCATION:Castlegarth Farm\, White Lake\, ON\, Canada
END:VEVENT
BEGIN:VEVENT
DTSTART;TZID=America/Toronto:20250201T110000
DTEND;TZID=America/Toronto:20250201T170000
DTSTAMP:20260420T022924
CREATED:20250128T021435Z
LAST-MODIFIED:20250128T021435Z
UID:92-1738407600-1738429200@www.artemisiapress.ca
SUMMARY:Ottawa Mystic Market - Imbolc
DESCRIPTION:Sharing table space with Wool Witch Guild\, carrying two collections of short fiction by Christopher Shorewick: \n\nDon’t Scream\, It’s Only Armageddon (2nd edition)\nPrometheus Anonymous
URL:https://www.artemisiapress.ca/event/ottawa-mystic-market-imbolc/
LOCATION:Ontario
END:VEVENT
BEGIN:VEVENT
DTSTART;TZID=America/Toronto:20241013T000000
DTEND;TZID=America/Toronto:20241013T235959
DTSTAMP:20260420T022924
CREATED:20250128T024236Z
LAST-MODIFIED:20250128T024236Z
UID:103-1728777600-1728863999@www.artemisiapress.ca
SUMMARY:Hallowzine
DESCRIPTION:
URL:https://www.artemisiapress.ca/event/hallowzine/
LOCATION:Glebe Community Centre\, Ottawa\, ON\, Canada
END:VEVENT
END:VCALENDAR