BEGIN:VCALENDAR
VERSION:2.0
PRODID:-//Artemisia Press - ECPv6.15.12.2//NONSGML v1.0//EN
CALSCALE:GREGORIAN
METHOD:PUBLISH
X-WR-CALNAME:Artemisia Press
X-ORIGINAL-URL:https://www.artemisiapress.ca
X-WR-CALDESC:Events for Artemisia Press
REFRESH-INTERVAL;VALUE=DURATION:PT1H
X-Robots-Tag:noindex
X-PUBLISHED-TTL:PT1H
BEGIN:VTIMEZONE
TZID:America/Toronto
BEGIN:DAYLIGHT
TZOFFSETFROM:-0500
TZOFFSETTO:-0400
TZNAME:EDT
DTSTART:20240310T070000
END:DAYLIGHT
BEGIN:STANDARD
TZOFFSETFROM:-0400
TZOFFSETTO:-0500
TZNAME:EST
DTSTART:20241103T060000
END:STANDARD
BEGIN:DAYLIGHT
TZOFFSETFROM:-0500
TZOFFSETTO:-0400
TZNAME:EDT
DTSTART:20250309T070000
END:DAYLIGHT
BEGIN:STANDARD
TZOFFSETFROM:-0400
TZOFFSETTO:-0500
TZNAME:EST
DTSTART:20251102T060000
END:STANDARD
BEGIN:DAYLIGHT
TZOFFSETFROM:-0500
TZOFFSETTO:-0400
TZNAME:EDT
DTSTART:20260308T070000
END:DAYLIGHT
BEGIN:STANDARD
TZOFFSETFROM:-0400
TZOFFSETTO:-0500
TZNAME:EST
DTSTART:20261101T060000
END:STANDARD
BEGIN:DAYLIGHT
TZOFFSETFROM:-0500
TZOFFSETTO:-0400
TZNAME:EDT
DTSTART:20270314T070000
END:DAYLIGHT
BEGIN:STANDARD
TZOFFSETFROM:-0400
TZOFFSETTO:-0500
TZNAME:EST
DTSTART:20271107T060000
END:STANDARD
END:VTIMEZONE
BEGIN:VEVENT
DTSTART;TZID=America/Toronto:20251207T120000
DTEND;TZID=America/Toronto:20251207T170000
DTSTAMP:20260419T183027
CREATED:20251201T010758Z
LAST-MODIFIED:20251206T145525Z
UID:279-1765108800-1765126800@www.artemisiapress.ca
SUMMARY:Castlegarth Popup Market
DESCRIPTION:Selling our usual wares\, with a chance that Christopher Shorewick may read some unreleased flash fiction from his pending Yule anthology.
URL:https://www.artemisiapress.ca/event/castlegarth-popup-market/
LOCATION:Castlegarth Farm\, White Lake\, ON\, Canada
END:VEVENT
BEGIN:VEVENT
DTSTART;TZID=America/Toronto:20260321T110000
DTEND;TZID=America/Toronto:20260321T170000
DTSTAMP:20260419T183027
CREATED:20260225T235909Z
LAST-MODIFIED:20260225T235909Z
UID:364-1774090800-1774112400@www.artemisiapress.ca
SUMMARY:Ottawa Mystic Market - Ostara
DESCRIPTION:Supporting the Wool Witch at the Ottawa Mystic Market on Saturday only!
URL:https://www.artemisiapress.ca/event/ottawa-mystic-market-ostara/
LOCATION:Next Door Market & Event Space\, 955a Gladstone Avenue\, Ottawa\, Ontario\, K1Y 3E5\, Canada
END:VEVENT
BEGIN:VEVENT
DTSTART;TZID=America/Toronto:20260329T110000
DTEND;TZID=America/Toronto:20260329T170000
DTSTAMP:20260419T183027
CREATED:20260225T235625Z
LAST-MODIFIED:20260225T235625Z
UID:361-1774782000-1774803600@www.artemisiapress.ca
SUMMARY:Unbound Indie Lit Market
DESCRIPTION:Step into a celebration of words\, creativity\, and community at Unbound: Indie Lit Market — an epic gathering where Ottawa’s independent authors\, poets\, and storytellers share their passion for the written word.
URL:https://www.artemisiapress.ca/event/unbound-indie-lit-market/
LOCATION:Next Door Market & Event Space\, 955a Gladstone Avenue\, Ottawa\, Ontario\, K1Y 3E5\, Canada
CATEGORIES:Market
ATTACH;FMTTYPE=image/png:https://www.artemisiapress.ca/wp-content/uploads/2026/02/unbound-insta.png
END:VEVENT
END:VCALENDAR