BEGIN:VCALENDAR
VERSION:2.0
PRODID:-//Artemisia Press - ECPv6.15.12.2//NONSGML v1.0//EN
CALSCALE:GREGORIAN
METHOD:PUBLISH
X-WR-CALNAME:Artemisia Press
X-ORIGINAL-URL:https://www.artemisiapress.ca
X-WR-CALDESC:Events for Artemisia Press
REFRESH-INTERVAL;VALUE=DURATION:PT1H
X-Robots-Tag:noindex
X-PUBLISHED-TTL:PT1H
BEGIN:VTIMEZONE
TZID:America/Toronto
BEGIN:DAYLIGHT
TZOFFSETFROM:-0500
TZOFFSETTO:-0400
TZNAME:EDT
DTSTART:20240310T070000
END:DAYLIGHT
BEGIN:STANDARD
TZOFFSETFROM:-0400
TZOFFSETTO:-0500
TZNAME:EST
DTSTART:20241103T060000
END:STANDARD
BEGIN:DAYLIGHT
TZOFFSETFROM:-0500
TZOFFSETTO:-0400
TZNAME:EDT
DTSTART:20250309T070000
END:DAYLIGHT
BEGIN:STANDARD
TZOFFSETFROM:-0400
TZOFFSETTO:-0500
TZNAME:EST
DTSTART:20251102T060000
END:STANDARD
BEGIN:DAYLIGHT
TZOFFSETFROM:-0500
TZOFFSETTO:-0400
TZNAME:EDT
DTSTART:20260308T070000
END:DAYLIGHT
BEGIN:STANDARD
TZOFFSETFROM:-0400
TZOFFSETTO:-0500
TZNAME:EST
DTSTART:20261101T060000
END:STANDARD
END:VTIMEZONE
BEGIN:VEVENT
DTSTART;TZID=America/Toronto:20250920T090000
DTEND;TZID=America/Toronto:20250920T170000
DTSTAMP:20260419T213812
CREATED:20250905T025945Z
LAST-MODIFIED:20250905T025945Z
UID:191-1758358800-1758387600@www.artemisiapress.ca
SUMMARY:Ottawa Mystic Market - Mabon
DESCRIPTION:Sharing table space with Wool Witch Guild\, carrying our fiction backlog as well as a new entry to Christopher Shorewick’s flash horror anthology series and a new zine!: \n\nDon’t Scream\, It’s Only Armageddon (2nd edition)\nPrometheus Anonymous\nElectromagnetic Spectres\nLanterns for Graverobbers (illustrated by Kelsea Shorewick)\nTiptoe Through the Tombstones\nHeavy Metal Thunder (new!)\nSeven Times I Died (Plus a Brief Intermission) (new!)
URL:https://www.artemisiapress.ca/event/ottawa-mystic-market-mabon/
LOCATION:Next Door Market & Event Space\, 955a Gladstone Avenue\, Ottawa\, Ontario\, K1Y 3E5\, Canada
END:VEVENT
END:VCALENDAR