BEGIN:VCALENDAR
VERSION:2.0
PRODID:-//Artemisia Press - ECPv6.15.12.2//NONSGML v1.0//EN
CALSCALE:GREGORIAN
METHOD:PUBLISH
X-WR-CALNAME:Artemisia Press
X-ORIGINAL-URL:https://www.artemisiapress.ca
X-WR-CALDESC:Events for Artemisia Press
REFRESH-INTERVAL;VALUE=DURATION:PT1H
X-Robots-Tag:noindex
X-PUBLISHED-TTL:PT1H
BEGIN:VTIMEZONE
TZID:America/Toronto
BEGIN:DAYLIGHT
TZOFFSETFROM:-0500
TZOFFSETTO:-0400
TZNAME:EDT
DTSTART:20240310T070000
END:DAYLIGHT
BEGIN:STANDARD
TZOFFSETFROM:-0400
TZOFFSETTO:-0500
TZNAME:EST
DTSTART:20241103T060000
END:STANDARD
BEGIN:DAYLIGHT
TZOFFSETFROM:-0500
TZOFFSETTO:-0400
TZNAME:EDT
DTSTART:20250309T070000
END:DAYLIGHT
BEGIN:STANDARD
TZOFFSETFROM:-0400
TZOFFSETTO:-0500
TZNAME:EST
DTSTART:20251102T060000
END:STANDARD
BEGIN:DAYLIGHT
TZOFFSETFROM:-0500
TZOFFSETTO:-0400
TZNAME:EDT
DTSTART:20260308T070000
END:DAYLIGHT
BEGIN:STANDARD
TZOFFSETFROM:-0400
TZOFFSETTO:-0500
TZNAME:EST
DTSTART:20261101T060000
END:STANDARD
END:VTIMEZONE
BEGIN:VEVENT
DTSTART;TZID=America/Toronto:20251012T100000
DTEND;TZID=America/Toronto:20251012T140000
DTSTAMP:20260419T200442
CREATED:20250905T030339Z
LAST-MODIFIED:20250905T030339Z
UID:195-1760263200-1760277600@www.artemisiapress.ca
SUMMARY:Hallowzine 2025
DESCRIPTION:Bringing out the usual suspects\, featuring overstock from previous zine fairs and markets\, as well as some peculiar offerings from a certain Department…
URL:https://www.artemisiapress.ca/event/hallowzine-2025/
LOCATION:Ontario
END:VEVENT
BEGIN:VEVENT
DTSTART;TZID=America/Toronto:20251025T090000
DTEND;TZID=America/Toronto:20251025T170000
DTSTAMP:20260419T200442
CREATED:20250905T030141Z
LAST-MODIFIED:20250905T030141Z
UID:193-1761382800-1761411600@www.artemisiapress.ca
SUMMARY:Ottawa Mystic Market - Samhain
DESCRIPTION:Sharing table space with Wool Witch Guild\, carrying our fiction backlog as well as a new special entry to Christopher Shorewick’s flash horror anthology series\, featuring many new stories and custom binding! \n\nDon’t Scream\, It’s Only Armageddon (2nd edition)\nPrometheus Anonymous\nElectromagnetic Spectres\nLanterns for Graverobbers (illustrated by Kelsea Shorewick)\nTiptoe Through the Tombstones\nHeavy Metal Thunder\nSeven Times I Died (Plus a Brief Intermission)\nAssembling Puzzles of Flesh (new!)
URL:https://www.artemisiapress.ca/event/ottawa-mystic-market-samhain/
LOCATION:Ontario
END:VEVENT
END:VCALENDAR